BEGIN:VCALENDAR
VERSION:2.0
PRODID:-//Lister Infant School - ECPv6.7.0//NONSGML v1.0//EN
CALSCALE:GREGORIAN
METHOD:PUBLISH
X-WR-CALNAME:Lister Infant School
X-ORIGINAL-URL:https://listerinfants.org.uk
X-WR-CALDESC:Events for Lister Infant School
REFRESH-INTERVAL;VALUE=DURATION:PT1H
X-Robots-Tag:noindex
X-PUBLISHED-TTL:PT1H
BEGIN:VTIMEZONE
TZID:UTC
BEGIN:STANDARD
TZOFFSETFROM:+0000
TZOFFSETTO:+0000
TZNAME:UTC
DTSTART:20260101T000000
END:STANDARD
END:VTIMEZONE
BEGIN:VEVENT
DTSTART;TZID=UTC:20260427T080000
DTEND;TZID=UTC:20260427T170000
DTSTAMP:20260421T114424
CREATED:20251106T114512Z
LAST-MODIFIED:20251106T114516Z
UID:13203-1777276800-1777309200@listerinfants.org.uk
SUMMARY:Reception Clubs 3:15 - 4:00pm
DESCRIPTION:
URL:https://listerinfants.org.uk/event/reception-clubs-315-400pm-2/
END:VEVENT
BEGIN:VEVENT
DTSTART;TZID=UTC:20260504T080000
DTEND;TZID=UTC:20260504T170000
DTSTAMP:20260421T114424
CREATED:20251106T115305Z
LAST-MODIFIED:20251106T115308Z
UID:13213-1777881600-1777914000@listerinfants.org.uk
SUMMARY:Bank Holiday
DESCRIPTION:
URL:https://listerinfants.org.uk/event/bank-holiday/
CATEGORIES:Summer Term
END:VEVENT
BEGIN:VEVENT
DTSTART;TZID=UTC:20260505T080000
DTEND;TZID=UTC:20260505T170000
DTSTAMP:20260421T114424
CREATED:20251106T115603Z
LAST-MODIFIED:20251106T115606Z
UID:13215-1777968000-1778000400@listerinfants.org.uk
SUMMARY:Deaf Awareness Week
DESCRIPTION:
URL:https://listerinfants.org.uk/event/deaf-awareness-week/
END:VEVENT
BEGIN:VEVENT
DTSTART;TZID=UTC:20260507T080000
DTEND;TZID=UTC:20260507T170000
DTSTAMP:20260421T114424
CREATED:20251106T115654Z
LAST-MODIFIED:20251106T115658Z
UID:13217-1778140800-1778173200@listerinfants.org.uk
SUMMARY:Family Board Games Night 3:15pm
DESCRIPTION:
URL:https://listerinfants.org.uk/event/family-board-games-night-315pm/
END:VEVENT
BEGIN:VEVENT
DTSTART;TZID=UTC:20260511T080000
DTEND;TZID=UTC:20260511T170000
DTSTAMP:20260421T114424
CREATED:20251106T115738Z
LAST-MODIFIED:20251106T115740Z
UID:13219-1778486400-1778518800@listerinfants.org.uk
SUMMARY:Reception Clubs 3:15 - 4:00pm
DESCRIPTION:
URL:https://listerinfants.org.uk/event/reception-clubs-315-400pm-3/
END:VEVENT
BEGIN:VEVENT
DTSTART;TZID=UTC:20260514T080000
DTEND;TZID=UTC:20260514T170000
DTSTAMP:20260421T114424
CREATED:20251106T115813Z
LAST-MODIFIED:20251106T115816Z
UID:13221-1778745600-1778778000@listerinfants.org.uk
SUMMARY:International Family Day
DESCRIPTION:
URL:https://listerinfants.org.uk/event/international-family-day/
END:VEVENT
BEGIN:VEVENT
DTSTART;TZID=UTC:20260518T080000
DTEND;TZID=UTC:20260518T170000
DTSTAMP:20260421T114424
CREATED:20251106T115847Z
LAST-MODIFIED:20251106T115850Z
UID:13223-1779091200-1779123600@listerinfants.org.uk
SUMMARY:Reception Clubs 3:15pm - 4:00pm
DESCRIPTION:
URL:https://listerinfants.org.uk/event/reception-clubs-315pm-400pm/
END:VEVENT
BEGIN:VEVENT
DTSTART;TZID=UTC:20260520T080000
DTEND;TZID=UTC:20260520T170000
DTSTAMP:20260421T114424
CREATED:20251106T115918Z
LAST-MODIFIED:20251106T120149Z
UID:13225-1779264000-1779296400@listerinfants.org.uk
SUMMARY:National Numeracy Day
DESCRIPTION:
URL:https://listerinfants.org.uk/event/national-numeracy-day/
END:VEVENT
BEGIN:VEVENT
DTSTART;TZID=UTC:20260521T080000
DTEND;TZID=UTC:20260521T170000
DTSTAMP:20260421T114424
CREATED:20251106T120256Z
LAST-MODIFIED:20251106T120259Z
UID:13227-1779350400-1779382800@listerinfants.org.uk
SUMMARY:RD Class Assembly 9:00am
DESCRIPTION:
URL:https://listerinfants.org.uk/event/rd-class-assembly-900am/
END:VEVENT
BEGIN:VEVENT
DTSTART;TZID=UTC:20260522T080000
DTEND;TZID=UTC:20260522T170000
DTSTAMP:20260421T114424
CREATED:20251106T120632Z
LAST-MODIFIED:20251106T120635Z
UID:13229-1779436800-1779469200@listerinfants.org.uk
SUMMARY:Break-up for Half Term 3:15pm
DESCRIPTION:
URL:https://listerinfants.org.uk/event/break-up-for-half-term-315pm-2/
CATEGORIES:Summer Term
END:VEVENT
BEGIN:VEVENT
DTSTART;TZID=UTC:20260601T080000
DTEND;TZID=UTC:20260601T170000
DTSTAMP:20260421T114424
CREATED:20251106T120707Z
LAST-MODIFIED:20251106T120710Z
UID:13231-1780300800-1780333200@listerinfants.org.uk
SUMMARY:Inset Day
DESCRIPTION:
URL:https://listerinfants.org.uk/event/inset-day-2/
CATEGORIES:Summer Term
END:VEVENT
BEGIN:VEVENT
DTSTART;TZID=UTC:20260602T080000
DTEND;TZID=UTC:20260602T170000
DTSTAMP:20260421T114424
CREATED:20251106T120728Z
LAST-MODIFIED:20251106T120731Z
UID:13233-1780387200-1780419600@listerinfants.org.uk
SUMMARY:Inset Day
DESCRIPTION:
URL:https://listerinfants.org.uk/event/inset-day-4/
CATEGORIES:Summer Term
END:VEVENT
BEGIN:VEVENT
DTSTART;TZID=UTC:20260603T080000
DTEND;TZID=UTC:20260603T170000
DTSTAMP:20260421T114424
CREATED:20251106T120810Z
LAST-MODIFIED:20251106T120813Z
UID:13235-1780473600-1780506000@listerinfants.org.uk
SUMMARY:Return to School 8:45am
DESCRIPTION:
URL:https://listerinfants.org.uk/event/return-to-school-845am-4/
CATEGORIES:Summer Term
END:VEVENT
BEGIN:VEVENT
DTSTART;TZID=UTC:20260608T080000
DTEND;TZID=UTC:20260608T170000
DTSTAMP:20260421T114424
CREATED:20251106T120839Z
LAST-MODIFIED:20251106T120842Z
UID:13237-1780905600-1780938000@listerinfants.org.uk
SUMMARY:Money Week
DESCRIPTION:
URL:https://listerinfants.org.uk/event/money-week/
END:VEVENT
BEGIN:VEVENT
DTSTART;TZID=UTC:20260608T080000
DTEND;TZID=UTC:20260608T170000
DTSTAMP:20260421T114424
CREATED:20251106T120944Z
LAST-MODIFIED:20251106T121037Z
UID:13239-1780905600-1780938000@listerinfants.org.uk
SUMMARY:Reception Clubs 3:15 - 4:00pm
DESCRIPTION:
URL:https://listerinfants.org.uk/event/reception-clubs-315-400pm-4/
END:VEVENT
BEGIN:VEVENT
DTSTART;TZID=UTC:20260615T080000
DTEND;TZID=UTC:20260615T170000
DTSTAMP:20260421T114424
CREATED:20251106T121155Z
LAST-MODIFIED:20251106T121158Z
UID:13241-1781510400-1781542800@listerinfants.org.uk
SUMMARY:Sports Day
DESCRIPTION:
URL:https://listerinfants.org.uk/event/sports-day/
END:VEVENT
BEGIN:VEVENT
DTSTART;TZID=UTC:20260615T080000
DTEND;TZID=UTC:20260615T170000
DTSTAMP:20260421T114424
CREATED:20251106T121322Z
LAST-MODIFIED:20251106T121325Z
UID:13245-1781510400-1781542800@listerinfants.org.uk
SUMMARY:Reception Clubs 3:15 - 4:00pm (last club)
DESCRIPTION:
URL:https://listerinfants.org.uk/event/reception-clubs-315-400pm-last-club/
END:VEVENT
BEGIN:VEVENT
DTSTART;TZID=UTC:20260616T080000
DTEND;TZID=UTC:20260616T170000
DTSTAMP:20260421T114424
CREATED:20251106T121220Z
LAST-MODIFIED:20251106T121223Z
UID:13243-1781596800-1781629200@listerinfants.org.uk
SUMMARY:Sports Day
DESCRIPTION:
URL:https://listerinfants.org.uk/event/sports-day-2/
END:VEVENT
BEGIN:VEVENT
DTSTART;TZID=UTC:20260625T080000
DTEND;TZID=UTC:20260625T170000
DTSTAMP:20260421T114424
CREATED:20251106T121630Z
LAST-MODIFIED:20251106T121633Z
UID:13247-1782374400-1782406800@listerinfants.org.uk
SUMMARY:New to Nursery Parent Meeting 4:00pm
DESCRIPTION:
URL:https://listerinfants.org.uk/event/new-to-nursery-parent-meeting-400pm/
END:VEVENT
BEGIN:VEVENT
DTSTART;TZID=UTC:20260625T080000
DTEND;TZID=UTC:20260625T170000
DTSTAMP:20260421T114424
CREATED:20251106T121828Z
LAST-MODIFIED:20251106T121832Z
UID:13249-1782374400-1782406800@listerinfants.org.uk
SUMMARY:New to Reception Parent Meeting 5:30pm
DESCRIPTION:
URL:https://listerinfants.org.uk/event/new-to-reception-parent-meeting-530pm/
END:VEVENT
BEGIN:VEVENT
DTSTART;TZID=UTC:20260701T080000
DTEND;TZID=UTC:20260701T170000
DTSTAMP:20260421T114424
CREATED:20251106T121901Z
LAST-MODIFIED:20251106T121906Z
UID:13251-1782892800-1782925200@listerinfants.org.uk
SUMMARY:Moving Up Day
DESCRIPTION:
URL:https://listerinfants.org.uk/event/moving-up-day/
END:VEVENT
BEGIN:VEVENT
DTSTART;TZID=UTC:20260701T080000
DTEND;TZID=UTC:20260701T170000
DTSTAMP:20260421T114424
CREATED:20251106T121947Z
LAST-MODIFIED:20251106T121950Z
UID:13253-1782892800-1782925200@listerinfants.org.uk
SUMMARY:Teddy Bears Picnic New Nursery/Reception
DESCRIPTION:
URL:https://listerinfants.org.uk/event/teddy-bears-picnic-new-nursery-reception/
END:VEVENT
BEGIN:VEVENT
DTSTART;TZID=UTC:20260701T080000
DTEND;TZID=UTC:20260701T170000
DTSTAMP:20260421T114424
CREATED:20251106T122031Z
LAST-MODIFIED:20251106T122035Z
UID:13255-1782892800-1782925200@listerinfants.org.uk
SUMMARY:Nursery Closed (to accomodate new visits)
DESCRIPTION:
URL:https://listerinfants.org.uk/event/nursery-closed-to-accomodate-new-visits/
END:VEVENT
BEGIN:VEVENT
DTSTART;TZID=UTC:20260706T080000
DTEND;TZID=UTC:20260706T170000
DTSTAMP:20260421T114424
CREATED:20251106T122104Z
LAST-MODIFIED:20251106T122107Z
UID:13257-1783324800-1783357200@listerinfants.org.uk
SUMMARY:New to Y1 Parent Meeting 2:30pm
DESCRIPTION:
URL:https://listerinfants.org.uk/event/new-to-y1-parent-meeting-230pm/
END:VEVENT
BEGIN:VEVENT
DTSTART;TZID=UTC:20260707T080000
DTEND;TZID=UTC:20260707T170000
DTSTAMP:20260421T114424
CREATED:20251106T122134Z
LAST-MODIFIED:20251106T122137Z
UID:13259-1783411200-1783443600@listerinfants.org.uk
SUMMARY:New to Y2 Parent Meeting 2:30pm
DESCRIPTION:
URL:https://listerinfants.org.uk/event/new-to-y2-parent-meeting-230pm/
END:VEVENT
BEGIN:VEVENT
DTSTART;TZID=UTC:20260709T080000
DTEND;TZID=UTC:20260709T170000
DTSTAMP:20260421T114424
CREATED:20251106T122204Z
LAST-MODIFIED:20251106T122436Z
UID:13261-1783584000-1783616400@listerinfants.org.uk
SUMMARY:RM Class Assembly 9:00am
DESCRIPTION:
URL:https://listerinfants.org.uk/event/rm-class-assembly-900am/
END:VEVENT
BEGIN:VEVENT
DTSTART;TZID=UTC:20260717T080000
DTEND;TZID=UTC:20260717T170000
DTSTAMP:20260421T114424
CREATED:20251106T122517Z
LAST-MODIFIED:20251106T122520Z
UID:13263-1784275200-1784307600@listerinfants.org.uk
SUMMARY:Break-up for Summer 1:15pm
DESCRIPTION:
URL:https://listerinfants.org.uk/event/break-up-for-summer-115pm/
CATEGORIES:Summer Term
END:VEVENT
BEGIN:VEVENT
DTSTART;TZID=UTC:20260720T080000
DTEND;TZID=UTC:20260720T170000
DTSTAMP:20260421T114424
CREATED:20251106T122543Z
LAST-MODIFIED:20251106T122546Z
UID:13265-1784534400-1784566800@listerinfants.org.uk
SUMMARY:Inset Day
DESCRIPTION:
URL:https://listerinfants.org.uk/event/inset-day-5/
CATEGORIES:Summer Term
END:VEVENT
END:VCALENDAR